BEGIN:VCALENDAR
VERSION:2.0
PRODID:-//Cirugía en Turkana - ECPv5.13.0//NONSGML v1.0//EN
CALSCALE:GREGORIAN
METHOD:PUBLISH
X-WR-CALNAME:Cirugía en Turkana
X-ORIGINAL-URL:https://www.cirugiaenturkana.com
X-WR-CALDESC:Eventos para Cirugía en Turkana
BEGIN:VTIMEZONE
TZID:UTC
BEGIN:STANDARD
TZOFFSETFROM:+0000
TZOFFSETTO:+0000
TZNAME:UTC
DTSTART:20190101T000000
END:STANDARD
END:VTIMEZONE
BEGIN:VEVENT
DTSTART;TZID=UTC:20190626T200000
DTEND;TZID=UTC:20190626T220000
DTSTAMP:20260417T063925
CREATED:20190605T081044Z
LAST-MODIFIED:20190605T081053Z
UID:3078-1561579200-1561586400@www.cirugiaenturkana.com
SUMMARY:XI Concierto Lírico Cirugía en Turkana
DESCRIPTION:
URL:https://www.cirugiaenturkana.com/eventos/xi-concierto-lirico-cirugia-en-turkana/
LOCATION:Hospital Clínico San Carlos\, Calle del Profesor Martín Lagos\, s/n\, Madrid\, Madrid\, 28040\, España
CATEGORIES:Conciertos Solidarios
ATTACH;FMTTYPE=image/jpeg:https://www.cirugiaenturkana.com/wp-content/uploads/2019/06/c4c907f0-f267-4421-b2f6-1b242b59b9cd.jpg
END:VEVENT
END:VCALENDAR